BEGIN:VCALENDAR
VERSION:2.0
PRODID:UMC.EDU
CALSCALE:GREGORIAN
METHOD:PUBLISH
BEGIN:VTIMEZONE
TZID:US/CENTRAL
BEGIN:STANDARD
TZOFFSETFROM:-0500
TZOFFSETTO:-0600
END:STANDARD
END:VTIMEZONE
BEGIN:VEVENT
DTSTART:20260610T113000
DTEND:20260610T123000
SUMMARY:Office of Faculty Affairs Research Expo
LOCATION:Student Union Conference Center
DESCRIPTION:The Office of Faculty Affairs will host a campuswide "Research Expo" at 11:30 a.m. Wednesday, June 10, in the Student Union Conference Center.Light snacks will be provided.
PRIORITY:3
END:VEVENT
END:VCALENDAR
