BEGIN:VCALENDAR
VERSION:2.0
PRODID:UMC.EDU
CALSCALE:GREGORIAN
METHOD:PUBLISH
BEGIN:VTIMEZONE
TZID:US/CENTRAL
BEGIN:STANDARD
TZOFFSETFROM:-0500
TZOFFSETTO:-0600
END:STANDARD
END:VTIMEZONE
BEGIN:VEVENT
DTSTART:20260604T120000
DTEND:20260604T130000
SUMMARY:The Academy for Excellence in Education Lunch and Learn
LOCATION:CW106
DESCRIPTION:The Academy for Excellence in Education will host a faculty development session where faculty members from all schools can learn new educational ideas while eating lunch. This "Lunch and Learn" will begin at noon Thursday, June 4, in CW106.
PRIORITY:3
END:VEVENT
END:VCALENDAR
