BEGIN:VCALENDAR
VERSION:2.0
PRODID:UMC.EDU
CALSCALE:GREGORIAN
METHOD:PUBLISH
BEGIN:VTIMEZONE
TZID:US/CENTRAL
BEGIN:STANDARD
TZOFFSETFROM:-0500
TZOFFSETTO:-0600
END:STANDARD
END:VTIMEZONE
BEGIN:VEVENT
DTSTART:20260520T140000
DTEND:20260520T150000
SUMMARY:SOPH Honors and Awards Ceremony
LOCATION:Student Union
DESCRIPTION:The School of Population Health’s (SOPH) 2026 Honors and Awards Ceremony is on Wednesday, May 20 in the Student Union.
PRIORITY:3
END:VEVENT
END:VCALENDAR
