BEGIN:VCALENDAR
VERSION:2.0
PRODID:UMC.EDU
CALSCALE:GREGORIAN
METHOD:PUBLISH
BEGIN:VTIMEZONE
TZID:US/CENTRAL
BEGIN:STANDARD
TZOFFSETFROM:-0500
TZOFFSETTO:-0600
END:STANDARD
END:VTIMEZONE
BEGIN:VEVENT
DTSTART:20260501T000000
DTEND:20260501T000000
SUMMARY:SHRP Final Examinations and Classes End (Except DPT and OTD)
LOCATION:
DESCRIPTION:School of Health Related Professions final examinations and classes end (except DPT and OTD) on Friday, May 1.
PRIORITY:3
END:VEVENT
END:VCALENDAR
