BEGIN:VCALENDAR
VERSION:2.0
PRODID:UMC.EDU
CALSCALE:GREGORIAN
METHOD:PUBLISH
BEGIN:VTIMEZONE
TZID:US/CENTRAL
BEGIN:STANDARD
TZOFFSETFROM:-0500
TZOFFSETTO:-0600
END:STANDARD
END:VTIMEZONE
BEGIN:VEVENT
DTSTART:20260504T000000
DTEND:20260504T000000
SUMMARY:SHRP Final Examinations Begin (OTD and DPT only)
LOCATION:
DESCRIPTION:School of Health Related Professions' final examinations begin for OTD and DPT students on Monday, May 4.
PRIORITY:3
END:VEVENT
END:VCALENDAR
