BEGIN:VCALENDAR
VERSION:2.0
PRODID:UMC.EDU
CALSCALE:GREGORIAN
METHOD:PUBLISH
BEGIN:VTIMEZONE
TZID:US/CENTRAL
BEGIN:STANDARD
TZOFFSETFROM:-0500
TZOFFSETTO:-0600
END:STANDARD
END:VTIMEZONE
BEGIN:VEVENT
DTSTART:20260505T120000
DTEND:20260505T130000
SUMMARY:Department of Medicine Grand Rounds
LOCATION:Student Union and Webex
DESCRIPTION:Jim Oates, MD, professor of medicine, division chief of rheumatology and immunology and vice chair for research in the Department of Medicine at the University of South Carolina, will present Medicine Grand Rounds, "Endothelial Dysfunction in Systemic Lupus Erythematosus: One Investigator’s Journey," at noon Tuesday, May 5, in the Student Union and online via Webex.
PRIORITY:3
END:VEVENT
END:VCALENDAR
